BEGIN:VCALENDAR
VERSION:2.0
PRODID:-//iBlooming - ECPv6.14.1//NONSGML v1.0//EN
CALSCALE:GREGORIAN
METHOD:PUBLISH
X-ORIGINAL-URL:http://iblooming.ai/zh
X-WR-CALDESC:iBlooming的活动
REFRESH-INTERVAL;VALUE=DURATION:PT1H
X-Robots-Tag:noindex
X-PUBLISHED-TTL:PT1H
BEGIN:VTIMEZONE
TZID:Asia/Hong_Kong
BEGIN:STANDARD
TZOFFSETFROM:+0800
TZOFFSETTO:+0800
TZNAME:HKT
DTSTART:20250101T000000
END:STANDARD
END:VTIMEZONE
BEGIN:VEVENT
DTSTART;TZID=Asia/Hong_Kong:20251211T180000
DTEND;TZID=Asia/Hong_Kong:20251211T190000
DTSTAMP:20260422T154320
CREATED:20251126T023803Z
LAST-MODIFIED:20251126T023803Z
UID:10000213-1765476000-1765479600@iblooming.ai
SUMMARY:CHAMELEON DISC POWER: Adaptive Selling to Master the First 30 Seconds of Sales
DESCRIPTION:Discover “CHAMELEON DISC POWER: Adaptive Selling to Master the First 30 Seconds of Sales” with Eko Gunawan\, as we explore how understanding personality styles can transform your sales approach. This session will reveal techniques to quickly connect\, adapt\, and influence prospects in the crucial first moments of interaction. \nLearn how to harness CHAMELEON DISC strategies to build rapport\, gain trust\, and increase your sales effectiveness—turning every initial encounter into a lasting opportunity for success. \n  \nSpoken Language: Indonesian\nTime: 5:00 – 6:00 PM (GMT+7 JKT / KH)   |  6:00 – 7:00 PM (GMT+8 HK / MY)
URL:http://iblooming.ai/zh/event/chameleon-disc-power-adaptive-selling-to-master-the-first-30-seconds-of-sales/
CATEGORIES:OnLive
ATTACH;FMTTYPE=image/jpeg:https://iblooming.ai/wp-content/uploads/2025/11/1211t-1.jpg
ORGANIZER;CN="iLearn":MAILTO:cs@iblooming.ai
END:VEVENT
BEGIN:VEVENT
DTSTART;TZID=Asia/Hong_Kong:20251211T200000
DTEND;TZID=Asia/Hong_Kong:20251211T210000
DTSTAMP:20260422T154320
CREATED:20251126T022950Z
LAST-MODIFIED:20251126T022950Z
UID:10000210-1765483200-1765486800@iblooming.ai
SUMMARY:PHASES IN COUNSELING
DESCRIPTION:Discover “Phases in Counseling” with Dr. Joko Prihanto\, M.Th\, as we explore the structured stages that make counseling effective and transformative. This session will highlight how each phase—from building rapport to resolution—plays a crucial role in guiding counselees toward insight\, healing\, and growth. \nLearn how to navigate the counseling process with clarity\, purpose\, and empathy—ensuring that every interaction supports meaningful change and fosters lasting well-being. \nSpoken Language: Indonesian\nTime: 8:00 PM (GMT+7 JKT / KH)   |  9:00 PM (GMT+8 HK / MY)
URL:http://iblooming.ai/zh/event/phases-in-counseling/
CATEGORIES:OnLive
ATTACH;FMTTYPE=image/jpeg:https://iblooming.ai/wp-content/uploads/2025/11/1211t.jpg
ORGANIZER;CN="iLearn":MAILTO:cs@iblooming.ai
END:VEVENT
BEGIN:VEVENT
DTSTART;TZID=Asia/Hong_Kong:20251211T223000
DTEND;TZID=Asia/Hong_Kong:20251211T235900
DTSTAMP:20260422T154320
CREATED:20251113T013948Z
LAST-MODIFIED:20251113T014100Z
UID:10000195-1765492200-1765497540@iblooming.ai
SUMMARY:Supper and Mindfulness Pt 6
DESCRIPTION:Experience “Supper and Mindfulness Pt 6” with Onggy Hianata\, an inspiring session that invites you to slow down\, reflect\, and rediscover the beauty of being present. Through mindful sharing and heartfelt reflection\, this session will explore how awareness and gratitude can transform the way we think\, feel\, and connect with others. \nDiscover how simple moments—when embraced with mindfulness—can bring deeper peace\, clarity\, and joy to your daily life\, nurturing both inner calm and meaningful connection with the world around you. \nSpoken Language: Indonesia\nTime: 9:300 – 11:00 PM (GMT+7 JKT / KH)   |  10:30PM – 12:00 AM (GMT+8 HK / MY) \n 
URL:http://iblooming.ai/zh/event/supper-and-mindfulness-pt6/
CATEGORIES:OnLive
ATTACH;FMTTYPE=image/jpeg:https://iblooming.ai/wp-content/uploads/2025/11/Supper_Launch_Thumbnail.jpg
END:VEVENT
END:VCALENDAR