BEGIN:VCALENDAR
VERSION:2.0
PRODID:-//iBlooming - ECPv6.14.1//NONSGML v1.0//EN
CALSCALE:GREGORIAN
METHOD:PUBLISH
X-WR-CALNAME:iBlooming
X-ORIGINAL-URL:http://iblooming.ai/zh
X-WR-CALDESC:iBlooming的活动
REFRESH-INTERVAL;VALUE=DURATION:PT1H
X-Robots-Tag:noindex
X-PUBLISHED-TTL:PT1H
BEGIN:VTIMEZONE
TZID:Asia/Hong_Kong
BEGIN:STANDARD
TZOFFSETFROM:+0800
TZOFFSETTO:+0800
TZNAME:HKT
DTSTART:20250101T000000
END:STANDARD
END:VTIMEZONE
BEGIN:VEVENT
DTSTART;TZID=Asia/Hong_Kong:20251218T180000
DTEND;TZID=Asia/Hong_Kong:20251218T190000
DTSTAMP:20260422T124904
CREATED:20251126T024044Z
LAST-MODIFIED:20251126T024044Z
UID:10000214-1766080800-1766084400@iblooming.ai
SUMMARY:Monetize Your Experience - Reinvent with AI!
DESCRIPTION:Discover “Monetize Your Experience – Reinvent with AI!” with Jane Chew\, as we explore how artificial intelligence can help you transform your skills\, knowledge\, and experience into new opportunities. This session will reveal practical ways to leverage AI tools to create value\, streamline processes\, and reach wider audiences. \nLearn how to reinvent your career or business by combining your expertise with AI—unlocking innovative ways to generate income\, expand impact\, and stay ahead in a rapidly evolving digital world. \n  \nSpoken Language: English\nTime: 5:00 – 6:00 PM (GMT+7 JKT / KH)   |  6:00 – 7:00 PM (GMT+8 HK / MY)
URL:http://iblooming.ai/zh/event/monetize-your-experience-reinvent-with-ai/
CATEGORIES:OnLive
ATTACH;FMTTYPE=image/jpeg:https://iblooming.ai/wp-content/uploads/2025/11/1218t-1.jpg
ORGANIZER;CN="iLearn":MAILTO:cs@iblooming.ai
END:VEVENT
BEGIN:VEVENT
DTSTART;TZID=Asia/Hong_Kong:20251218T200000
DTEND;TZID=Asia/Hong_Kong:20251218T210000
DTSTAMP:20260422T124904
CREATED:20251126T023115Z
LAST-MODIFIED:20251126T023115Z
UID:10000211-1766088000-1766091600@iblooming.ai
SUMMARY:COUNSELING FOR VARIOUS ISSUES (I) Stress\, Depression\, Anger\, Guilt
DESCRIPTION:Discover “Counseling for Various Issues (I): Stress\, Depression\, Anger\, Guilt” with Dr. Rivosa Santosa\, M.Th\, as we explore effective approaches to address common emotional and psychological challenges. This session will highlight strategies for understanding\, supporting\, and guiding individuals through stress\, depression\, anger\, and guilt. \nLearn how to apply practical counseling techniques with empathy and insight—helping counselees navigate difficult emotions\, find healing\, and regain balance in their lives. \n\n\n\n\n\n\n\n\n\n\n\nSpoken Language: Indonesian\nTime: 8:00 PM (GMT+7 JKT / KH)   |  9:00 PM (GMT+8 HK / MY)
URL:http://iblooming.ai/zh/event/counseling-for-various-issues-i-stress-depression-anger-guilt/
CATEGORIES:OnLive
ATTACH;FMTTYPE=image/jpeg:https://iblooming.ai/wp-content/uploads/2025/11/1218t.jpg
ORGANIZER;CN="iLearn":MAILTO:cs@iblooming.ai
END:VEVENT
BEGIN:VEVENT
DTSTART;TZID=Asia/Hong_Kong:20251218T223000
DTEND;TZID=Asia/Hong_Kong:20251218T235900
DTSTAMP:20260422T124904
CREATED:20251113T014007Z
LAST-MODIFIED:20251113T014104Z
UID:10000196-1766097000-1766102340@iblooming.ai
SUMMARY:Supper and Mindfulness Pt 7
DESCRIPTION:Experience “Supper and Mindfulness Pt 7” with Onggy Hianata\, an inspiring session that invites you to slow down\, reflect\, and rediscover the beauty of being present. Through mindful sharing and heartfelt reflection\, this session will explore how awareness and gratitude can transform the way we think\, feel\, and connect with others. \nDiscover how simple moments—when embraced with mindfulness—can bring deeper peace\, clarity\, and joy to your daily life\, nurturing both inner calm and meaningful connection with the world around you. \nSpoken Language: Indonesia\nTime: 9:300 – 11:00 PM (GMT+7 JKT / KH)   |  10:30PM – 12:00 AM (GMT+8 HK / MY) \n 
URL:http://iblooming.ai/zh/event/supper-and-mindfulness-pt7/
CATEGORIES:OnLive
ATTACH;FMTTYPE=image/jpeg:https://iblooming.ai/wp-content/uploads/2025/11/Supper_Launch_Thumbnail.jpg
END:VEVENT
END:VCALENDAR