BEGIN:VCALENDAR
VERSION:2.0
PRODID:-//iBlooming - ECPv6.14.1//NONSGML v1.0//EN
CALSCALE:GREGORIAN
METHOD:PUBLISH
X-WR-CALNAME:iBlooming
X-ORIGINAL-URL:http://iblooming.ai/zh
X-WR-CALDESC:iBlooming的活动
REFRESH-INTERVAL;VALUE=DURATION:PT1H
X-Robots-Tag:noindex
X-PUBLISHED-TTL:PT1H
BEGIN:VTIMEZONE
TZID:Asia/Hong_Kong
BEGIN:STANDARD
TZOFFSETFROM:+0800
TZOFFSETTO:+0800
TZNAME:HKT
DTSTART:20250101T000000
END:STANDARD
END:VTIMEZONE
BEGIN:VEVENT
DTSTART;TZID=Asia/Hong_Kong:20251220T120000
DTEND;TZID=Asia/Hong_Kong:20251220T130000
DTSTAMP:20260422T182918
CREATED:20251126T032255Z
LAST-MODIFIED:20251126T032255Z
UID:10000221-1766232000-1766235600@iblooming.ai
SUMMARY:The Power of Your Thoughts: Building Up or Breaking Down
DESCRIPTION:Explore “The Power of Your Thoughts: Building Up or Breaking Down” with dr. I Wayan Mustika\, as we delve into how your mindset directly influences your emotions\, actions\, and life outcomes. This session will uncover the ways in which positive and negative thought patterns can either empower or limit you. \nLearn how to cultivate constructive thinking—transforming mental habits into sources of strength\, resilience\, and purposeful action to create a more fulfilling and balanced life. \nSpoken Language: Indonesian\nTime: 12:00 PM (GMT+7 JKT / KH)   |  1:00 PM (GMT+8 HK / MY)
URL:http://iblooming.ai/zh/event/the-power-of-your-thoughts-building-up-or-breaking-down-2/
CATEGORIES:OnLive
ATTACH;FMTTYPE=image/jpeg:https://iblooming.ai/wp-content/uploads/2025/11/1220t-1.jpg
ORGANIZER;CN="iLearn":MAILTO:cs@iblooming.ai
END:VEVENT
END:VCALENDAR