BEGIN:VCALENDAR
VERSION:2.0
PRODID:-//iBlooming - ECPv6.14.1//NONSGML v1.0//EN
CALSCALE:GREGORIAN
METHOD:PUBLISH
X-WR-CALNAME:iBlooming
X-ORIGINAL-URL:http://iblooming.ai/zh
X-WR-CALDESC:iBlooming的活动
REFRESH-INTERVAL;VALUE=DURATION:PT1H
X-Robots-Tag:noindex
X-PUBLISHED-TTL:PT1H
BEGIN:VTIMEZONE
TZID:Asia/Hong_Kong
BEGIN:STANDARD
TZOFFSETFROM:+0800
TZOFFSETTO:+0800
TZNAME:HKT
DTSTART:20260101T000000
END:STANDARD
END:VTIMEZONE
BEGIN:VEVENT
DTSTART;TZID=Asia/Hong_Kong:20260110T120000
DTEND;TZID=Asia/Hong_Kong:20260110T130000
DTSTAMP:20260422T113233
CREATED:20251219T091938Z
LAST-MODIFIED:20251219T091938Z
UID:10000241-1768046400-1768050000@iblooming.ai
SUMMARY:Inner Power
DESCRIPTION:Explore “Inner Power” with Mr. Uthaya Kumar\, as we uncover the hidden strength that lies within every individual. This session will explore how self-awareness\, mindset\, and intentional action can awaken inner resilience and personal mastery. \nLearn how to access your inner power—building confidence\, clarity\, and purpose to face challenges with strength and lead your life with greater intention and impact. \nSpoken Language: Indonesian\nTime: 12:00 PM (GMT+7 JKT / KH)   |  1:00 PM (GMT+8 HK / MY)
URL:http://iblooming.ai/zh/event/inner-power/
CATEGORIES:OnLive
ATTACH;FMTTYPE=image/jpeg:https://iblooming.ai/wp-content/uploads/2025/12/0110T.jpg
ORGANIZER;CN="iLearn":MAILTO:cs@iblooming.ai
END:VEVENT
END:VCALENDAR