BEGIN:VCALENDAR
VERSION:2.0
PRODID:-//iBlooming - ECPv6.14.1//NONSGML v1.0//EN
CALSCALE:GREGORIAN
METHOD:PUBLISH
X-ORIGINAL-URL:http://iblooming.ai/zh
X-WR-CALDESC:iBlooming的活动
REFRESH-INTERVAL;VALUE=DURATION:PT1H
X-Robots-Tag:noindex
X-PUBLISHED-TTL:PT1H
BEGIN:VTIMEZONE
TZID:Asia/Hong_Kong
BEGIN:STANDARD
TZOFFSETFROM:+0800
TZOFFSETTO:+0800
TZNAME:HKT
DTSTART:20260101T000000
END:STANDARD
END:VTIMEZONE
BEGIN:VEVENT
DTSTART;TZID=Asia/Hong_Kong:20260114T200000
DTEND;TZID=Asia/Hong_Kong:20260114T210000
DTSTAMP:20260423T083759
CREATED:20251226T030538Z
LAST-MODIFIED:20251226T030538Z
UID:10000258-1768420800-1768424400@iblooming.ai
SUMMARY:The Perfect Speech Class For Those Who Don’t Like To Speak: Body Language that Communicates Confidence
DESCRIPTION:Uncover  “The Perfect Speech Class For Those Who Don’t Like To Speak: Body Language that Communicates Confidence” with Fursey Gotuaco\, as we uncover how nonverbal cues can dramatically enhance your presence and credibility. This session will reveal how posture\, gestures\, facial expressions\, and movement can communicate confidence even before you speak. \nLearn how to harness the power of body language—projecting assurance\, engaging your audience\, and reinforcing your message to speak with impact\, even if you’re naturally reserved or anxious about public speaking. \nSpoken Language: English\nTime: 7:00 – 8:00 PM (GMT+7 JKT / KH)   |  8:00 – 9:00 PM (GMT+8 HK / MY)
URL:http://iblooming.ai/zh/event/the-perfect-speech-class-for-those-who-dont-like-to-speak-body-language-that-communicates-confidence/
CATEGORIES:OnLive
ATTACH;FMTTYPE=image/jpeg:https://iblooming.ai/wp-content/uploads/2025/12/0114t.jpg
ORGANIZER;CN="iLearn":MAILTO:cs@iblooming.ai
END:VEVENT
END:VCALENDAR