BEGIN:VCALENDAR
VERSION:2.0
PRODID:-//iBlooming - ECPv6.14.1//NONSGML v1.0//EN
CALSCALE:GREGORIAN
METHOD:PUBLISH
X-ORIGINAL-URL:http://iblooming.ai/zh
X-WR-CALDESC:iBlooming的活动
REFRESH-INTERVAL;VALUE=DURATION:PT1H
X-Robots-Tag:noindex
X-PUBLISHED-TTL:PT1H
BEGIN:VTIMEZONE
TZID:Asia/Hong_Kong
BEGIN:STANDARD
TZOFFSETFROM:+0800
TZOFFSETTO:+0800
TZNAME:HKT
DTSTART:20260101T000000
END:STANDARD
END:VTIMEZONE
BEGIN:VEVENT
DTSTART;TZID=Asia/Hong_Kong:20260122T180000
DTEND;TZID=Asia/Hong_Kong:20260122T190000
DTSTAMP:20260422T154247
CREATED:20251226T034017Z
LAST-MODIFIED:20251226T034017Z
UID:10000263-1769104800-1769108400@iblooming.ai
SUMMARY:Signature Healing : The Emotional Language Behind A Signature
DESCRIPTION:Uncover “Signature Healing: The Emotional Language Behind a Signature” with Dian Rizki\, as we explore how handwriting reflects emotions\, personality\, and inner states. This session will reveal how understanding the emotional language in signatures can provide insights into self-awareness\, personal growth\, and emotional well-being. \nLearn how to interpret and transform the energy behind your signature—using it as a tool to release blockages\, strengthen confidence\, and align your actions with your true intentions.  \n\n\n\n\n\n\nSpoken Language: Indonesian\nTime: 5:00 – 6:00 PM (GMT+7 JKT / KH)   |  6:00 – 7:00 PM (GMT+8 HK / MY)
URL:http://iblooming.ai/zh/event/signature-healing-the-emotional-language-behind-a-signature/
CATEGORIES:OnLive
ATTACH;FMTTYPE=image/jpeg:https://iblooming.ai/wp-content/uploads/2025/12/0122t-1.jpg
ORGANIZER;CN="iLearn":MAILTO:cs@iblooming.ai
END:VEVENT
BEGIN:VEVENT
DTSTART;TZID=Asia/Hong_Kong:20260122T200000
DTEND;TZID=Asia/Hong_Kong:20260122T210000
DTSTAMP:20260422T154247
CREATED:20251219T085637Z
LAST-MODIFIED:20251219T085637Z
UID:10000238-1769112000-1769115600@iblooming.ai
SUMMARY:PRE-MARITAL COUNSELING + Singles
DESCRIPTION:Explore “Pre-Marital Counseling + Singles” with Dr. Jessica Elizabeth Abraham\, M.Th\, as we reflect on healthy foundations for relationships\, marriage readiness\, and personal growth. This session will address emotional maturity\, expectations\, communication\, and faith—whether you are preparing for marriage or navigating singleness with purpose. \nLearn how pre-marital counseling principles can guide wiser choices\, strengthen self-understanding\, and help individuals and couples build relationships rooted in clarity\, commitment\, and lasting values. \n  \nSpoken Language: Indonesian\nTime: 8:00 PM (GMT+7 JKT / KH)   |  9:00 PM (GMT+8 HK / MY)
URL:http://iblooming.ai/zh/event/pre-marital-counseling-singles/
CATEGORIES:OnLive
ATTACH;FMTTYPE=image/jpeg:https://iblooming.ai/wp-content/uploads/2025/12/0122t.jpg
ORGANIZER;CN="iLearn":MAILTO:cs@iblooming.ai
END:VEVENT
BEGIN:VEVENT
DTSTART;TZID=Asia/Hong_Kong:20260122T223000
DTEND;TZID=Asia/Hong_Kong:20260122T235900
DTSTAMP:20260422T154247
CREATED:20251219T093935Z
LAST-MODIFIED:20251219T093935Z
UID:10000255-1769121000-1769126340@iblooming.ai
SUMMARY:Supper and Mindfulness
DESCRIPTION:Experience “Supper and Mindfulness” with Onggy Hianata\, an inspiring session that invites you to slow down\, reflect\, and rediscover the beauty of being present. Through mindful sharing and heartfelt reflection\, this session will explore how awareness and gratitude can transform the way we think\, feel\, and connect with others. \nDiscover how simple moments—when embraced with mindfulness—can bring deeper peace\, clarity\, and joy to your daily life\, nurturing both inner calm and meaningful connection with the world around you. \nSpoken Language: Indonesia\nTime: 9:300 – 11:00 PM (GMT+7 JKT / KH)   |  10:30PM – 12:00 AM (GMT+8 HK / MY) \n 
URL:http://iblooming.ai/zh/event/supper-and-mindfulness-3/
CATEGORIES:OnLive
ATTACH;FMTTYPE=image/jpeg:https://iblooming.ai/wp-content/uploads/2025/11/Supper_Launch_Thumbnail.jpg
END:VEVENT
END:VCALENDAR