BEGIN:VCALENDAR
VERSION:2.0
PRODID:-//iBlooming - ECPv6.14.1//NONSGML v1.0//EN
CALSCALE:GREGORIAN
METHOD:PUBLISH
X-ORIGINAL-URL:http://iblooming.ai/zh
X-WR-CALDESC:iBlooming的活动
REFRESH-INTERVAL;VALUE=DURATION:PT1H
X-Robots-Tag:noindex
X-PUBLISHED-TTL:PT1H
BEGIN:VTIMEZONE
TZID:Asia/Hong_Kong
BEGIN:STANDARD
TZOFFSETFROM:+0800
TZOFFSETTO:+0800
TZNAME:HKT
DTSTART:20260101T000000
END:STANDARD
END:VTIMEZONE
BEGIN:VEVENT
DTSTART;TZID=Asia/Hong_Kong:20260124T120000
DTEND;TZID=Asia/Hong_Kong:20260124T130000
DTSTAMP:20260423T070629
CREATED:20251219T092605Z
LAST-MODIFIED:20251219T092605Z
UID:10000243-1769256000-1769259600@iblooming.ai
SUMMARY:Dharma as the Way of Inner Nobility
DESCRIPTION:Join us for“Dharma as the Way of Inner Nobility” with Rasa Acharya Dr. I Made Darmayasa\, as we reflect on how Dharma shapes character\, conscience\, and the pursuit of a noble life. This session will explore the timeless principles that guide individuals toward integrity\, humility\, and inner refinement. \nLearn how living in alignment with Dharma cultivates inner nobility—awakening wisdom\, compassion\, and ethical strength that elevate both personal growth and service to humanity. \nSpoken Language: Indonesian\nTime: 12:00 PM (GMT+7 JKT / KH)   |  1:00 PM (GMT+8 HK / MY)
URL:http://iblooming.ai/zh/event/dharma-as-the-way-of-inner-nobility/
CATEGORIES:OnLive
ATTACH;FMTTYPE=image/jpeg:https://iblooming.ai/wp-content/uploads/2025/12/0124T.jpg
ORGANIZER;CN="iLearn":MAILTO:cs@iblooming.ai
END:VEVENT
END:VCALENDAR