BEGIN:VCALENDAR
VERSION:2.0
PRODID:-//iBlooming - ECPv6.14.1//NONSGML v1.0//EN
CALSCALE:GREGORIAN
METHOD:PUBLISH
X-ORIGINAL-URL:http://iblooming.ai/zh
X-WR-CALDESC:iBlooming的活动
REFRESH-INTERVAL;VALUE=DURATION:PT1H
X-Robots-Tag:noindex
X-PUBLISHED-TTL:PT1H
BEGIN:VTIMEZONE
TZID:Asia/Hong_Kong
BEGIN:STANDARD
TZOFFSETFROM:+0800
TZOFFSETTO:+0800
TZNAME:HKT
DTSTART:20260101T000000
END:STANDARD
END:VTIMEZONE
BEGIN:VEVENT
DTSTART;TZID=Asia/Hong_Kong:20260130T200000
DTEND;TZID=Asia/Hong_Kong:20260130T210000
DTSTAMP:20260422T012803
CREATED:20251226T040556Z
LAST-MODIFIED:20251226T040556Z
UID:10000267-1769803200-1769806800@iblooming.ai
SUMMARY:SMEs : LEVEL UP OR FACE EXTINCTION  THE EVER-BURNING FLAME Follow-Up Systems That Drive Sales Even While You Sleep
DESCRIPTION:Master “SMEs: Level Up or Face Extinction – Follow-Up Systems That Drive Sales Even While You Sleep” with Suwandi Chow\, as we explore how automated follow-up strategies can keep your business thriving 24/7. This session will reveal methods to nurture leads\, maintain customer engagement\, and convert opportunities into consistent sales. \nLearn how to implement systems that work around the clock—ensuring your SME stays visible\, builds trust\, and generates revenue without constant manual effort. \nSpoken Language: Indonesian\nTime: 7:00 – 8:00 PM (GMT+7 JKT / KH)   |  8:00 – 9:00 PM (GMT+8 HK / MY)
URL:http://iblooming.ai/zh/event/smes-level-up-or-face-extinction-the-ever-burning-flame-follow-up-systems-that-drive-sales-even-while-you-sleep/
CATEGORIES:OnLive
ATTACH;FMTTYPE=image/jpeg:https://iblooming.ai/wp-content/uploads/2025/12/0130T.jpg
ORGANIZER;CN="iLearn":MAILTO:cs@iblooming.ai
END:VEVENT
END:VCALENDAR