BEGIN:VCALENDAR
VERSION:2.0
PRODID:-//iBlooming - ECPv6.14.1//NONSGML v1.0//EN
CALSCALE:GREGORIAN
METHOD:PUBLISH
X-ORIGINAL-URL:http://iblooming.ai/zh
X-WR-CALDESC:iBlooming的活动
REFRESH-INTERVAL;VALUE=DURATION:PT1H
X-Robots-Tag:noindex
X-PUBLISHED-TTL:PT1H
BEGIN:VTIMEZONE
TZID:Asia/Hong_Kong
BEGIN:STANDARD
TZOFFSETFROM:+0800
TZOFFSETTO:+0800
TZNAME:HKT
DTSTART:20260101T000000
END:STANDARD
END:VTIMEZONE
BEGIN:VEVENT
DTSTART;TZID=Asia/Hong_Kong:20260205T180000
DTEND;TZID=Asia/Hong_Kong:20260205T190000
DTSTAMP:20260422T072104
CREATED:20260129T094412Z
LAST-MODIFIED:20260129T094412Z
UID:10000299-1770314400-1770318000@iblooming.ai
SUMMARY:Finding Your Voice Online: How Digital Literacy Opens Doors to New Opportunities
DESCRIPTION:Unlock “Finding Your Voice Online: How Digital Literacy Opens Doors to New Opportunities” with Oluwabunmi Asala\, as we explore how mastering digital tools and platforms can amplify your presence and influence. This session will reveal how understanding online spaces enables you to share your story\, connect meaningfully\, and seize opportunities in today’s digital world. \nLearn how to leverage digital literacy to communicate effectively\, build networks\, and transform your ideas into real-world impact—turning your online voice into a powerful tool for growth and opportunity. \n  \nSpoken Language: English\nTime: 5:00 – 6:00 PM (GMT+7 JKT / KH)   |  6:00 – 7:00 PM (GMT+8 HK / MY)
URL:http://iblooming.ai/zh/event/finding-your-voice-online-how-digital-literacy-opens-doors-to-new-opportunities/
CATEGORIES:OnLive
ATTACH;FMTTYPE=image/jpeg:https://iblooming.ai/wp-content/uploads/2026/01/0205t-1.jpg
ORGANIZER;CN="iLearn":MAILTO:cs@iblooming.ai
END:VEVENT
BEGIN:VEVENT
DTSTART;TZID=Asia/Hong_Kong:20260205T200000
DTEND;TZID=Asia/Hong_Kong:20260205T210000
DTSTAMP:20260422T072104
CREATED:20260126T094315Z
LAST-MODIFIED:20260126T094315Z
UID:10000285-1770321600-1770325200@iblooming.ai
SUMMARY:(III) Inferiority\, Loneliness\, Mental Disorders\, Homosexuality
DESCRIPTION:Address “Counseling for Various Issues (III): Inferiority\, Loneliness\, Mental Disorders\, Homosexuality” with Dr. Juliana Hindradjat\, S.Psi.\, M.Th\, as we explore compassionate approaches to sensitive and complex challenges. This session will examine strategies to understand\, support\, and guide individuals facing emotional struggles\, identity questions\, and mental health concerns. \nLearn how to provide empathetic\, informed\, and ethical counseling—helping others navigate difficulties\, build resilience\, and find balance while fostering respect and holistic well-being. \nSpoken Language: Indonesian\nTime: 8:00 PM (GMT+7 JKT / KH)   |  9:00 PM (GMT+8 HK / MY)
URL:http://iblooming.ai/zh/event/iii-inferiority-loneliness-mental-disorders-homosexuality/
CATEGORIES:OnLive
ATTACH;FMTTYPE=image/jpeg:https://iblooming.ai/wp-content/uploads/2026/01/0205t.jpg
ORGANIZER;CN="iLearn":MAILTO:cs@iblooming.ai
END:VEVENT
BEGIN:VEVENT
DTSTART;TZID=Asia/Hong_Kong:20260205T223000
DTEND;TZID=Asia/Hong_Kong:20260205T235900
DTSTAMP:20260422T072104
CREATED:20260126T092206Z
LAST-MODIFIED:20260126T092206Z
UID:10000282-1770330600-1770335940@iblooming.ai
SUMMARY:Supper and Mindfulness
DESCRIPTION:Experience “Supper and Mindfulness” with Onggy Hianata\, an inspiring session that invites you to slow down\, reflect\, and rediscover the beauty of being present. Through mindful sharing and heartfelt reflection\, this session will explore how awareness and gratitude can transform the way we think\, feel\, and connect with others. \nDiscover how simple moments—when embraced with mindfulness—can bring deeper peace\, clarity\, and joy to your daily life\, nurturing both inner calm and meaningful connection with the world around you. \nSpoken Language: Indonesia\nTime: 9:300 – 11:00 PM (GMT+7 JKT / KH)   |  10:30PM – 12:00 AM (GMT+8 HK / MY) \n 
URL:http://iblooming.ai/zh/event/supper-and-mindfulness-5/
CATEGORIES:OnLive
ATTACH;FMTTYPE=image/jpeg:https://iblooming.ai/wp-content/uploads/2025/11/Supper_Launch_Thumbnail.jpg
END:VEVENT
END:VCALENDAR