BEGIN:VCALENDAR
VERSION:2.0
PRODID:-//iBlooming - ECPv6.14.1//NONSGML v1.0//EN
CALSCALE:GREGORIAN
METHOD:PUBLISH
X-ORIGINAL-URL:http://iblooming.ai/zh
X-WR-CALDESC:iBlooming的活动
REFRESH-INTERVAL;VALUE=DURATION:PT1H
X-Robots-Tag:noindex
X-PUBLISHED-TTL:PT1H
BEGIN:VTIMEZONE
TZID:Asia/Hong_Kong
BEGIN:STANDARD
TZOFFSETFROM:+0800
TZOFFSETTO:+0800
TZNAME:HKT
DTSTART:20260101T000000
END:STANDARD
END:VTIMEZONE
BEGIN:VEVENT
DTSTART;TZID=Asia/Hong_Kong:20260206T200000
DTEND;TZID=Asia/Hong_Kong:20260206T210000
DTSTAMP:20260422T012738
CREATED:20251226T041114Z
LAST-MODIFIED:20251226T041114Z
UID:10000268-1770408000-1770411600@iblooming.ai
SUMMARY:SMEs : LEVEL UP OR FACE EXTINCTION 90 DAYS TO MARKET LEADERSHIP Accelerating Growth Through Digital and AI Integration
DESCRIPTION:Master “SMEs: Level Up or Face Extinction – 90 Days to Market Leadership: Accelerating Growth Through Digital and AI Integration” with Suwandi Chow\, as we explore how small and medium enterprises can rapidly scale and secure a competitive edge using digital tools and AI. This session will reveal strategies to streamline operations\, optimize decision-making\, and drive accelerated growth. \nLearn how to leverage technology and innovation—turning insights into action to achieve market leadership in just 90 days\, positioning your SME for long-term success in the digital era. \nSpoken Language: Indonesian\nTime: 7:00 – 8:00 PM (GMT+7 JKT / KH)   |  8:00 – 9:00 PM (GMT+8 HK / MY)
URL:http://iblooming.ai/zh/event/smes-level-up-or-face-extinction-90-days-to-market-leadership-accelerating-growth-through-digital-and-ai-integration/
CATEGORIES:OnLive
ATTACH;FMTTYPE=image/jpeg:https://iblooming.ai/wp-content/uploads/2025/12/0206t.jpg
ORGANIZER;CN="iLearn":MAILTO:cs@iblooming.ai
END:VEVENT
END:VCALENDAR