BEGIN:VCALENDAR
VERSION:2.0
PRODID:-//iBlooming - ECPv6.14.1//NONSGML v1.0//EN
CALSCALE:GREGORIAN
METHOD:PUBLISH
X-WR-CALNAME:iBlooming
X-ORIGINAL-URL:http://iblooming.ai/zh
X-WR-CALDESC:iBlooming的活动
REFRESH-INTERVAL;VALUE=DURATION:PT1H
X-Robots-Tag:noindex
X-PUBLISHED-TTL:PT1H
BEGIN:VTIMEZONE
TZID:Asia/Hong_Kong
BEGIN:STANDARD
TZOFFSETFROM:+0800
TZOFFSETTO:+0800
TZNAME:HKT
DTSTART:20260101T000000
END:STANDARD
END:VTIMEZONE
BEGIN:VEVENT
DTSTART;TZID=Asia/Hong_Kong:20260422T200000
DTEND;TZID=Asia/Hong_Kong:20260422T210000
DTSTAMP:20260422T051843
CREATED:20260417T041548Z
LAST-MODIFIED:20260421T074852Z
UID:10000383-1776888000-1776891600@iblooming.ai
SUMMARY:FROM STUDENT TO FOUNDER:  The Growth Map for Building Your Business  "Mindset is Everything" for Founders
DESCRIPTION:Accelerate your journey from the classroom to the boardroom in “FROM STUDENT TO FOUNDER: The Growth Map for Building Your Business” with Dr. Ken-Thaw Zin. This session\, titled “”Mindset is Everything” for Founders” explores the psychological shift required to transition from a student following instructions to a founder creating opportunities. \nJoin us to learn the fundamental “Growth Map” for new entrepreneurs. You will discover how to reframe failure as data\, cultivate the resilience needed for the startup phase\, and build a mental framework that prioritizes problem-solving and long-term vision over short-term academic perfection. \n  \nSpoken Language: Khmer\nTime: 7:00 – 8:00 PM (GMT+7 JKT / KH)   |  8:00 – 9:00 PM (GMT+8 HK / MY)
URL:http://iblooming.ai/zh/event/from-student-to-founder-the-growth-map-for-building-your-business-why-mindset-is-everything/
CATEGORIES:OnLive
ATTACH;FMTTYPE=image/jpeg:https://iblooming.ai/wp-content/uploads/2026/04/Thumbnail-13-1.jpg
ORGANIZER;CN="iLearn":MAILTO:cs@iblooming.ai
END:VEVENT
END:VCALENDAR